BEGIN:VCALENDAR
VERSION:2.0
PRODID:-//Bolton Cancer Voices - ECPv4.9.4//NONSGML v1.0//EN
CALSCALE:GREGORIAN
METHOD:PUBLISH
X-WR-CALNAME:Bolton Cancer Voices
X-ORIGINAL-URL:http://176.32.230.28/boltoncancervoicestest.org.uk
X-WR-CALDESC:Events for Bolton Cancer Voices
BEGIN:VTIMEZONE
TZID:"UTC"
BEGIN:STANDARD
TZOFFSETFROM:+0000
TZOFFSETTO:+0000
TZNAME:UTC
DTSTART:20190101T000000
END:STANDARD
END:VTIMEZONE
BEGIN:VEVENT
DTSTART;TZID="UTC":20191207T183000
DTEND;TZID="UTC":20191207T233000
DTSTAMP:20260424T134245
CREATED:20190705T083129Z
LAST-MODIFIED:20190705T083129Z
UID:30143-1575743400-1575761400@176.32.230.28
SUMMARY:‘Jingle Bell Sing-A-Long’ – Saturday 7th December\, 6-45pm\, Victoria Hall\, Bolton
DESCRIPTION:
URL:http://176.32.230.28/boltoncancervoicestest.org.uk/event/jingle-bell-sing-a-long-saturday-7th-december-6-45pm-victoria-hall-bolton/
LOCATION:Victoria Hall\, 37 Knowsley St\, Bolton\, Bolton\, Greater Manchester\, BL1 2AS\, United Kingdom
END:VEVENT
END:VCALENDAR